BEGIN:VCALENDAR
VERSION:2.0
PRODID:-//hacksw/handcal//NONSGML v1.0//EN
CALSCALE:GREGORIAN
BEGIN:VEVENT
LOCATION:On-line
DESCRIPTION:ANOC – DAP WORKSHOP 13 (AI Series Part 1)
DTSTART:20250121T123000Z
DTEND:20250121T133000Z
DTSTAMP:20260422T082833Z
SUMMARY:ANOC – DAP WORKSHOP 13 (AI Series Part 1)
DESCRIPTIONANOC – DAP WORKSHOP 13 (AI Series Part 1)
UID:e495abb6323a9bc1d993825cafc545e9
END:VEVENT
BEGIN:VEVENT
LOCATION:On-line
DESCRIPTION:ANOC - ANOC SUSTAINABILITY COMMISSION MEETING - 2025
DTSTART:20250123T123000Z
DTEND:20250123T133000Z
DTSTAMP:20260422T082833Z
SUMMARY:ANOC - ANOC SUSTAINABILITY COMMISSION MEETING - 2025
DESCRIPTIONANOC - ANOC SUSTAINABILITY COMMISSION MEETING - 2025
UID:77ba1aec404bc6976a256db3907ce153
END:VEVENT
BEGIN:VEVENT
LOCATION:On-line
DESCRIPTION:ANOC - ANOC STRATEGIC PLAN WORKING GROUP MEETING - 2025
DTSTART:20250124T123000Z
DTEND:20250124T133000Z
DTSTAMP:20260422T082833Z
SUMMARY:ANOC - ANOC STRATEGIC PLAN WORKING GROUP MEETING - 2025
DESCRIPTIONANOC - ANOC STRATEGIC PLAN WORKING GROUP MEETING - 2025
UID:d3a5b9f8af87609bbd6a82403c110d5d
END:VEVENT
BEGIN:VEVENT
LOCATION:Lausanne - Switzerland
DESCRIPTION:IOC - 143RD IOC SESSION - 2025
DTSTART:20250130T123000Z
DTEND:20250130T133000Z
DTSTAMP:20260422T082833Z
SUMMARY:IOC - 143RD IOC SESSION - 2025
DESCRIPTIONIOC - 143RD IOC SESSION - 2025
UID:6c0900cce0a8723152622fb7238852df
END:VEVENT
BEGIN:VEVENT
LOCATION:On-line
DESCRIPTION:ANOC – DAP WORKSHOP 14 (AI Series Part 2)
DTSTART:20250205T123000Z
DTEND:20250205T133000Z
DTSTAMP:20260422T082833Z
SUMMARY:ANOC – DAP WORKSHOP 14 (AI Series Part 2)
DESCRIPTIONANOC – DAP WORKSHOP 14 (AI Series Part 2)
UID:a127bea2609d062bcc9aeaea193141c5
END:VEVENT
BEGIN:VEVENT
LOCATION:Bakuriani - Georgia
DESCRIPTION:EOC – EXECUTIVE COMMITTEE MEETING – 2025
DTSTART:20250209T123000Z
DTEND:20250209T133000Z
DTSTAMP:20260422T082833Z
SUMMARY:EOC – EXECUTIVE COMMITTEE MEETING – 2025
DESCRIPTIONEOC – EXECUTIVE COMMITTEE MEETING – 2025
UID:acb3b66593d9d47661ed3678898fe531
END:VEVENT
BEGIN:VEVENT
LOCATION:On-line
DESCRIPTION:ANOC – DAP WORKSHOP 15 (AI Series Part 3)
DTSTART:20250218T123000Z
DTEND:20250218T133000Z
DTSTAMP:20260422T082833Z
SUMMARY:ANOC – DAP WORKSHOP 15 (AI Series Part 3)
DESCRIPTIONANOC – DAP WORKSHOP 15 (AI Series Part 3)
UID:e374e004fac44b62d8460bd97680992a
END:VEVENT
BEGIN:VEVENT
LOCATION:Dakar - Senegal
DESCRIPTION:CISA - AFRICA INTERNATIONAL SPORTS CONVENTION - 2025
DTSTART:20250219T123000Z
DTEND:20250221T133000Z
DTSTAMP:20260422T082833Z
SUMMARY:CISA - AFRICA INTERNATIONAL SPORTS CONVENTION - 2025
DESCRIPTIONCISA - AFRICA INTERNATIONAL SPORTS CONVENTION - 2025
UID:52f32a0ea0556e0d278277ef483096cf
END:VEVENT
BEGIN:VEVENT
LOCATION:Frankfurt - Germany
DESCRIPTION:EOC - EXECUTIVE COMMITTEE MEETING - 2025
DTSTART:20250227T123000Z
DTEND:20250227T133000Z
DTSTAMP:20260422T082833Z
SUMMARY:EOC - EXECUTIVE COMMITTEE MEETING - 2025
DESCRIPTIONEOC - EXECUTIVE COMMITTEE MEETING - 2025
UID:15b56821bcc5f8a0eeb2106271892e53
END:VEVENT
BEGIN:VEVENT
LOCATION:Frankfurt - Germany
DESCRIPTION:EOC - GENERAL ASSEMBLY - 2025
DTSTART:20250228T123000Z
DTEND:20250301T133000Z
DTSTAMP:20260422T082833Z
SUMMARY:EOC - GENERAL ASSEMBLY - 2025
DESCRIPTIONEOC - GENERAL ASSEMBLY - 2025
UID:c2abf9418dc419d54cc3c35e7c9c080d
END:VEVENT
BEGIN:VEVENT
LOCATION:On-line
DESCRIPTION:ANOC – DAP WORKSHOP 16 (AI Series Part 4)
DTSTART:20250311T123000Z
DTEND:20250311T133000Z
DTSTAMP:20260422T082833Z
SUMMARY:ANOC – DAP WORKSHOP 16 (AI Series Part 4)
DESCRIPTIONANOC – DAP WORKSHOP 16 (AI Series Part 4)
UID:e5abe49d28bd519fee44ccfdc6180048
END:VEVENT
BEGIN:VEVENT
LOCATION:Algiers - Algeria
DESCRIPTION:ANOCA - GENERAL ASSEMBLY - 2025
DTSTART:20250315T123000Z
DTEND:20250315T133000Z
DTSTAMP:20260422T082833Z
SUMMARY:ANOCA - GENERAL ASSEMBLY - 2025
DESCRIPTIONANOCA - GENERAL ASSEMBLY - 2025
UID:de2f3a5de871fb74205ce7614cef470b
END:VEVENT
BEGIN:VEVENT
LOCATION:Costa Navarino - Greece
DESCRIPTION:IOC - EXECUTIVE BOARD MEETING - 2025
DTSTART:20250317T123000Z
DTEND:20250317T133000Z
DTSTAMP:20260422T082833Z
SUMMARY:IOC - EXECUTIVE BOARD MEETING - 2025
DESCRIPTIONIOC - EXECUTIVE BOARD MEETING - 2025
UID:dd2548d4850ac786805cff44e957f12c
END:VEVENT
BEGIN:VEVENT
LOCATION:Lausanne - Switzerland
DESCRIPTION:WADA – ANNUAL SYMPOSIUM - 2025
DTSTART:20250318T123000Z
DTEND:20250319T133000Z
DTSTAMP:20260422T082833Z
SUMMARY:WADA – ANNUAL SYMPOSIUM - 2025
DESCRIPTIONWADA – ANNUAL SYMPOSIUM - 2025
UID:6fc8ce84b834782e6d439152dce6830e
END:VEVENT
BEGIN:VEVENT
LOCATION:Costa Navarino - Greece
DESCRIPTION:IOC - 144TH IOC SESSION - 2025
DTSTART:20250318T123000Z
DTEND:20250321T133000Z
DTSTAMP:20260422T082833Z
SUMMARY:IOC - 144TH IOC SESSION - 2025
DESCRIPTIONIOC - 144TH IOC SESSION - 2025
UID:e431b7e08dc748eec10e5ee28d3e891b
END:VEVENT
BEGIN:VEVENT
LOCATION:On-line
DESCRIPTION:ANOC – DAP WORKSHOP 17 (AI Series Part 5)
DTSTART:20250318T123000Z
DTEND:20250318T133000Z
DTSTAMP:20260422T082833Z
SUMMARY:ANOC – DAP WORKSHOP 17 (AI Series Part 5)
DESCRIPTIONANOC – DAP WORKSHOP 17 (AI Series Part 5)
UID:0e9abca2efdab981cf6ceb146f2de1cb
END:VEVENT
BEGIN:VEVENT
LOCATION:Milano - Italy
DESCRIPTION:IOC – CHEF DE MISSION SEMINAR FOR MILANNO-CORTINA 2026
DTSTART:20250324T123000Z
DTEND:20250330T133000Z
DTSTAMP:20260422T082833Z
SUMMARY:IOC – CHEF DE MISSION SEMINAR FOR MILANNO-CORTINA 2026
DESCRIPTIONIOC – CHEF DE MISSION SEMINAR FOR MILANNO-CORTINA 2026
UID:9f95d4cfede2e902cc53d755bec82b41
END:VEVENT
BEGIN:VEVENT
LOCATION:On-line
DESCRIPTION:WADA - EXECUTIVE COMMITTEE MEETING - 2025
DTSTART:20250327T123000Z
DTEND:20250327T133000Z
DTSTAMP:20260422T082833Z
SUMMARY:WADA - EXECUTIVE COMMITTEE MEETING - 2025
DESCRIPTIONWADA - EXECUTIVE COMMITTEE MEETING - 2025
UID:00185e29731106c78bcc3c01b13a549b
END:VEVENT
BEGIN:VEVENT
LOCATION:Windhoek - Namibia
DESCRIPTION:ANOCA - ATHLETES FORUM - 2025
DTSTART:20250405T123000Z
DTEND:20250406T133000Z
DTSTAMP:20260422T082833Z
SUMMARY:ANOCA - ATHLETES FORUM - 2025
DESCRIPTIONANOCA - ATHLETES FORUM - 2025
UID:cc3d08c0cedc2352fca91f3ab4db5ed0
END:VEVENT
BEGIN:VEVENT
LOCATION:On-line
DESCRIPTION:IOC - EXECUTIVE BOARD MEETING - 2025
DTSTART:20250409T123000Z
DTEND:20250409T133000Z
DTSTAMP:20260422T082833Z
SUMMARY:IOC - EXECUTIVE BOARD MEETING - 2025
DESCRIPTIONIOC - EXECUTIVE BOARD MEETING - 2025
UID:81d08dee9022d81b41ab9049f8e20869
END:VEVENT
BEGIN:VEVENT
LOCATION:Brunei Darussalam
DESCRIPTION:OCA - GENDER EQUITY SEMINAR - 2025
DTSTART:20250414T123000Z
DTEND:20250415T133000Z
DTSTAMP:20260422T082833Z
SUMMARY:OCA - GENDER EQUITY SEMINAR - 2025
DESCRIPTIONOCA - GENDER EQUITY SEMINAR - 2025
UID:90c184a6f6d757e6d6969a6db11e4ab9
END:VEVENT
BEGIN:VEVENT
LOCATION:Abuja- Nigeria
DESCRIPTION:ANOCA - EXECUTIVE BOARD MEETING - 2025
DTSTART:20250414T123000Z
DTEND:20250415T133000Z
DTSTAMP:20260422T082833Z
SUMMARY:ANOCA - EXECUTIVE BOARD MEETING - 2025
DESCRIPTIONANOCA - EXECUTIVE BOARD MEETING - 2025
UID:3e9db89ed1981c6d93da50cdd8b8649b
END:VEVENT
BEGIN:VEVENT
LOCATION:On-line
DESCRIPTION:ANOC - GENDER EQUITY COMMISSION MEETING - 2025
DTSTART:20250415T123000Z
DTEND:20250415T133000Z
DTSTAMP:20260422T082833Z
SUMMARY:ANOC - GENDER EQUITY COMMISSION MEETING - 2025
DESCRIPTIONANOC - GENDER EQUITY COMMISSION MEETING - 2025
UID:08c3ecf322493f6d88a7d0126b8d41f1
END:VEVENT
BEGIN:VEVENT
LOCATION:On-line
DESCRIPTION:ANOC - SUSTAINABILITY WEBINAR - 2025
DTSTART:20250429T123000Z
DTEND:20250429T133000Z
DTSTAMP:20260422T082833Z
SUMMARY:ANOC - SUSTAINABILITY WEBINAR - 2025
DESCRIPTIONANOC - SUSTAINABILITY WEBINAR - 2025
UID:519851dc8bb66779282eab7d5073510a
END:VEVENT
BEGIN:VEVENT
LOCATION:Dakar - Senegal
DESCRIPTION:IOC – 7TH DAKAR 2026 COORDINATION COMMISSION MEETING - 2025
DTSTART:20250508T123000Z
DTEND:20250509T133000Z
DTSTAMP:20260422T082833Z
SUMMARY:IOC – 7TH DAKAR 2026 COORDINATION COMMISSION MEETING - 2025
DESCRIPTIONIOC – 7TH DAKAR 2026 COORDINATION COMMISSION MEETING - 2025
UID:f9fdf6e774d243e084e5aa58c90a295b
END:VEVENT
BEGIN:VEVENT
LOCATION:On-line
DESCRIPTION:ANOC - FINANCE COMMISSION MEETING - 2025
DTSTART:20250509T123000Z
DTEND:20250509T133000Z
DTSTAMP:20260422T082833Z
SUMMARY:ANOC - FINANCE COMMISSION MEETING - 2025
DESCRIPTIONANOC - FINANCE COMMISSION MEETING - 2025
UID:1e384b62bbca870e5a21f14a992cee00
END:VEVENT
BEGIN:VEVENT
LOCATION:Kuwait
DESCRIPTION:OCA - 45TH GENERAL ASSEMBLY - 2025
DTSTART:20250511T123000Z
DTEND:20250512T133000Z
DTSTAMP:20260422T082833Z
SUMMARY:OCA - 45TH GENERAL ASSEMBLY - 2025
DESCRIPTIONOCA - 45TH GENERAL ASSEMBLY - 2025
UID:e95e3ca13f9853de8d356d3b1a53f3d7
END:VEVENT
BEGIN:VEVENT
LOCATION:Guam
DESCRIPTION:ONOC – ANNUAL GENERAL MEETING – 2025
DTSTART:20250512T123000Z
DTEND:20250517T133000Z
DTSTAMP:20260422T082833Z
SUMMARY:ONOC – ANNUAL GENERAL MEETING – 2025
DESCRIPTIONONOC – ANNUAL GENERAL MEETING – 2025
UID:77f9d280136681e83f25173098dec9d4
END:VEVENT
BEGIN:VEVENT
LOCATION:Lausanne - Switzerland
DESCRIPTION:THINKSPORT – THE SPOT - 2025
DTSTART:20250512T123000Z
DTEND:20250513T133000Z
DTSTAMP:20260422T082833Z
SUMMARY:THINKSPORT – THE SPOT - 2025
DESCRIPTIONTHINKSPORT – THE SPOT - 2025
UID:e5565b359b4ba83c0584d9f80a3afbd6
END:VEVENT
BEGIN:VEVENT
LOCATION:On-line
DESCRIPTION:ANOC – DIGITAL ACCELERATOR PROGRAM WEBINAR 12
DTSTART:20250513T123000Z
DTEND:20250513T133000Z
DTSTAMP:20260422T082833Z
SUMMARY:ANOC – DIGITAL ACCELERATOR PROGRAM WEBINAR 12
DESCRIPTIONANOC – DIGITAL ACCELERATOR PROGRAM WEBINAR 12
UID:a1bd27f28dbeff038e9a2779726d110d
END:VEVENT
BEGIN:VEVENT
LOCATION:Brisbane - Australia
DESCRIPTION:IOC - BRISBANE 2032 COORDINATION COMMISSION MEETING - 2025
DTSTART:20250520T123000Z
DTEND:20250522T133000Z
DTSTAMP:20260422T082833Z
SUMMARY:IOC - BRISBANE 2032 COORDINATION COMMISSION MEETING - 2025
DESCRIPTIONIOC - BRISBANE 2032 COORDINATION COMMISSION MEETING - 2025
UID:6c16ce765f13e72f601bd278c5a7bdb2
END:VEVENT
BEGIN:VEVENT
LOCATION:On-line
DESCRIPTION:ANOC - SUSTAINABILITY WEBINAR - 2025
DTSTART:20250521T123000Z
DTEND:20250521T133000Z
DTSTAMP:20260422T082833Z
SUMMARY:ANOC - SUSTAINABILITY WEBINAR - 2025
DESCRIPTIONANOC - SUSTAINABILITY WEBINAR - 2025
UID:797517324dcc2c402fa1caf1d1e1f032
END:VEVENT
BEGIN:VEVENT
LOCATION:Lausanne - Switzerland
DESCRIPTION:IOC - OLYMPISM 365 SUMMIT - 2025
DTSTART:20250603T123000Z
DTEND:20250605T133000Z
DTSTAMP:20260422T082833Z
SUMMARY:IOC - OLYMPISM 365 SUMMIT - 2025
DESCRIPTIONIOC - OLYMPISM 365 SUMMIT - 2025
UID:bb52a95443435a3e09bdb9efd2699b9c
END:VEVENT
BEGIN:VEVENT
LOCATION:Lausanne - Switzerland
DESCRIPTION:ASOIF - COUNCIL MEETING - 2025
DTSTART:20250610T123000Z
DTEND:20250610T133000Z
DTSTAMP:20260422T082833Z
SUMMARY:ASOIF - COUNCIL MEETING - 2025
DESCRIPTIONASOIF - COUNCIL MEETING - 2025
UID:b0143f07b60a6c136ca2c23cd193d02e
END:VEVENT
BEGIN:VEVENT
LOCATION:Lausanne - Switzerland
DESCRIPTION:ASOIF - 49TH GENERAL ASSEMBLY - 2025
DTSTART:20250611T123000Z
DTEND:20250611T133000Z
DTSTAMP:20260422T082833Z
SUMMARY:ASOIF - 49TH GENERAL ASSEMBLY - 2025
DESCRIPTIONASOIF - 49TH GENERAL ASSEMBLY - 2025
UID:73ef64681c426054cc83faf68c645c0b
END:VEVENT
BEGIN:VEVENT
LOCATION:Lausanne - Switzerland
DESCRIPTION:ANOC - ATHLETES' COMMISSION MEETING - 2025
DTSTART:20250612T123000Z
DTEND:20250612T133000Z
DTSTAMP:20260422T082833Z
SUMMARY:ANOC - ATHLETES' COMMISSION MEETING - 2025
DESCRIPTIONANOC - ATHLETES' COMMISSION MEETING - 2025
UID:a7a9b3788cb0b7f76eb127153a7de25a
END:VEVENT
BEGIN:VEVENT
LOCATION:Lausanne - Switzerland
DESCRIPTION:ANOC - EXECUTIVE COUNCIL MEETING - 2025
DTSTART:20250621T123000Z
DTEND:20250621T133000Z
DTSTAMP:20260422T082833Z
SUMMARY:ANOC - EXECUTIVE COUNCIL MEETING - 2025
DESCRIPTIONANOC - EXECUTIVE COUNCIL MEETING - 2025
UID:aebe1c94e4e744e58e4b88fd7535fbb6
END:VEVENT
BEGIN:VEVENT
LOCATION:Lausanne - Switzerland
DESCRIPTION:IOC - EXECUTIVE BOARD MEETING - 2025
DTSTART:20250622T123000Z
DTEND:20250622T133000Z
DTSTAMP:20260422T082833Z
SUMMARY:IOC - EXECUTIVE BOARD MEETING - 2025
DESCRIPTIONIOC - EXECUTIVE BOARD MEETING - 2025
UID:7cbd3026ccfae51cdef090549e84db4c
END:VEVENT
BEGIN:VEVENT
LOCATION:Lausanne - Switzerland
DESCRIPTION:IOC - IOC PRESIDENT HANDOVER CEREMONY & OLYNMPIC DAY - 2025
DTSTART:20250623T123000Z
DTEND:20250623T133000Z
DTSTAMP:20260422T082833Z
SUMMARY:IOC - IOC PRESIDENT HANDOVER CEREMONY & OLYNMPIC DAY - 2025
DESCRIPTIONIOC - IOC PRESIDENT HANDOVER CEREMONY & OLYNMPIC DAY - 2025
UID:bc82fb77593f75269d8da323894fba16
END:VEVENT
BEGIN:VEVENT
LOCATION:Lausanne - Switzerland
DESCRIPTION:IOC - CONSULTATION MEETING (WITH IOC MEMBERS)
DTSTART:20250624T123000Z
DTEND:20250625T133000Z
DTSTAMP:20260422T082833Z
SUMMARY:IOC - CONSULTATION MEETING (WITH IOC MEMBERS)
DESCRIPTIONIOC - CONSULTATION MEETING (WITH IOC MEMBERS)
UID:478f22571d74eb7abad88d2d4612d4ca
END:VEVENT
BEGIN:VEVENT
LOCATION:On-line
DESCRIPTION:ANOC - SUSTAINABILITY WEBINAR - 2025
DTSTART:20250624T123000Z
DTEND:20250624T133000Z
DTSTAMP:20260422T082833Z
SUMMARY:ANOC - SUSTAINABILITY WEBINAR - 2025
DESCRIPTIONANOC - SUSTAINABILITY WEBINAR - 2025
UID:7f911e99c6b210a6168bce83ac640f05
END:VEVENT
BEGIN:VEVENT
LOCATION:Lausanne - Switzerland
DESCRIPTION:IOC - EXECUTIVE BOARD MEETING - 2025
DTSTART:20250625T123000Z
DTEND:20250626T133000Z
DTSTAMP:20260422T082833Z
SUMMARY:IOC - EXECUTIVE BOARD MEETING - 2025
DESCRIPTIONIOC - EXECUTIVE BOARD MEETING - 2025
UID:c3ab81e7cb0d7b2845f352064a5370d5
END:VEVENT
BEGIN:VEVENT
LOCATION:Skopje - North Macedonia
DESCRIPTION:EOC - EXECUTIVE COMMITTEE MEETING - 2025
DTSTART:20250720T123000Z
DTEND:20250720T133000Z
DTSTAMP:20260422T082833Z
SUMMARY:EOC - EXECUTIVE COMMITTEE MEETING - 2025
DESCRIPTIONEOC - EXECUTIVE COMMITTEE MEETING - 2025
UID:eb80ce71a4d1117ea2aeed157aac45ce
END:VEVENT
BEGIN:VEVENT
LOCATION:Annaba - Algeria
DESCRIPTION:ANOCA - EXECUTIVE COMMITTEE MEETING - 2025
DTSTART:20250728T123000Z
DTEND:20250728T133000Z
DTSTAMP:20260422T082833Z
SUMMARY:ANOCA - EXECUTIVE COMMITTEE MEETING - 2025
DESCRIPTIONANOCA - EXECUTIVE COMMITTEE MEETING - 2025
UID:c7440ba56bed5d44970b2357a663d188
END:VEVENT
BEGIN:VEVENT
LOCATION:Ascension - Paraguay
DESCRIPTION:PANAMSPORTS – GENERAL ASSEMBLY – 2025
DTSTART:20250805T123000Z
DTEND:20250807T133000Z
DTSTAMP:20260422T082833Z
SUMMARY:PANAMSPORTS – GENERAL ASSEMBLY – 2025
DESCRIPTIONPANAMSPORTS – GENERAL ASSEMBLY – 2025
UID:f08a7573db37298ae1a234c82e9b77c5
END:VEVENT
BEGIN:VEVENT
LOCATION:On-line
DESCRIPTION:ANOC - MEDICAL COMMISSION MEETING - 2025
DTSTART:20250828T123000Z
DTEND:20250828T133000Z
DTSTAMP:20260422T082833Z
SUMMARY:ANOC - MEDICAL COMMISSION MEETING - 2025
DESCRIPTIONANOC - MEDICAL COMMISSION MEETING - 2025
UID:9e0f8ec1b872c15cd4202320d8992d86
END:VEVENT
BEGIN:VEVENT
LOCATION:Nadi - Fiji
DESCRIPTION:ONOC - STAKEHOLDERS ENDORSEMENT MEETING - 2025
DTSTART:20250901T123000Z
DTEND:20250905T133000Z
DTSTAMP:20260422T082833Z
SUMMARY:ONOC - STAKEHOLDERS ENDORSEMENT MEETING - 2025
DESCRIPTIONONOC - STAKEHOLDERS ENDORSEMENT MEETING - 2025
UID:4975f0b3707796dee0549482ec4918e2
END:VEVENT
BEGIN:VEVENT
LOCATION:Astana, Kazakhstan
DESCRIPTION:OCA - ATHLETES FORUM - 2025
DTSTART:20250902T123000Z
DTEND:20250903T133000Z
DTSTAMP:20260422T082833Z
SUMMARY:OCA - ATHLETES FORUM - 2025
DESCRIPTIONOCA - ATHLETES FORUM - 2025
UID:2ab6156f3e592efbd1802fd9023c54ef
END:VEVENT
BEGIN:VEVENT
LOCATION:On-line
DESCRIPTION:ANOCA - EXECUTIVE COMMITTEE MEETING - 2025
DTSTART:20250903T123000Z
DTEND:20250903T133000Z
DTSTAMP:20260422T082833Z
SUMMARY:ANOCA - EXECUTIVE COMMITTEE MEETING - 2025
DESCRIPTIONANOCA - EXECUTIVE COMMITTEE MEETING - 2025
UID:a1d0ae159ccfd0c95205223bdffac7cf
END:VEVENT
BEGIN:VEVENT
LOCATION:On-line
DESCRIPTION:ANOC - MILANO-CORTINA 2026 NOC PHOTO PROGRAMME WEBINAR - 2025
DTSTART:20250909T123000Z
DTEND:20250909T133000Z
DTSTAMP:20260422T082833Z
SUMMARY:ANOC - MILANO-CORTINA 2026 NOC PHOTO PROGRAMME WEBINAR - 2025
DESCRIPTIONANOC - MILANO-CORTINA 2026 NOC PHOTO PROGRAMME WEBINAR - 2025
UID:003adb33f12456f540755e33d52acb49
END:VEVENT
BEGIN:VEVENT
LOCATION:On-line
DESCRIPTION:IOC - OLYMPIC PROGRAMME COMMISSION CALL - 2025
DTSTART:20250909T123000Z
DTEND:20250909T133000Z
DTSTAMP:20260422T082833Z
SUMMARY:IOC - OLYMPIC PROGRAMME COMMISSION CALL - 2025
DESCRIPTIONIOC - OLYMPIC PROGRAMME COMMISSION CALL - 2025
UID:f55370a93399621687ba659b39814893
END:VEVENT
BEGIN:VEVENT
LOCATION:Prague - Czechia
DESCRIPTION:WADA - EXECUTIVE COMMITTEE MEETING - 2025
DTSTART:20250911T123000Z
DTEND:20250911T133000Z
DTSTAMP:20260422T082833Z
SUMMARY:WADA - EXECUTIVE COMMITTEE MEETING - 2025
DESCRIPTIONWADA - EXECUTIVE COMMITTEE MEETING - 2025
UID:cb989b9deb021bd61e2b27efbaf9851e
END:VEVENT
BEGIN:VEVENT
LOCATION:Milano - Italy
DESCRIPTION:IOC - EXECUTIVE BOARD MEETING - 2025
DTSTART:20250918T123000Z
DTEND:20250919T133000Z
DTSTAMP:20260422T082833Z
SUMMARY:IOC - EXECUTIVE BOARD MEETING - 2025
DESCRIPTIONIOC - EXECUTIVE BOARD MEETING - 2025
UID:8946cbd7b69b42d93da7c1bf3ab265b2
END:VEVENT
BEGIN:VEVENT
LOCATION:Prague - Czechia
DESCRIPTION:WADA - EXECUTIVE COMMITTEE MEETING - 2025
DTSTART:20250918T123000Z
DTEND:20250919T133000Z
DTSTAMP:20260422T082833Z
SUMMARY:WADA - EXECUTIVE COMMITTEE MEETING - 2025
DESCRIPTIONWADA - EXECUTIVE COMMITTEE MEETING - 2025
UID:ee7fc61530f9763558d1851c638405f6
END:VEVENT
BEGIN:VEVENT
LOCATION:Maputo - Mozambique
DESCRIPTION:ANOCA - SECRETARIES GENERAL SEMINAR - 2025
DTSTART:20250927T123000Z
DTEND:20250928T133000Z
DTSTAMP:20260422T082833Z
SUMMARY:ANOCA - SECRETARIES GENERAL SEMINAR - 2025
DESCRIPTIONANOCA - SECRETARIES GENERAL SEMINAR - 2025
UID:4a970828437349f28f97c07cf22000af
END:VEVENT
BEGIN:VEVENT
LOCATION:Saint Julian - Malta
DESCRIPTION:EOC – EXECUTIVE COMMITTEE MEETING – 2025
DTSTART:20251002T123000Z
DTEND:20251002T133000Z
DTSTAMP:20260422T082833Z
SUMMARY:EOC – EXECUTIVE COMMITTEE MEETING – 2025
DESCRIPTIONEOC – EXECUTIVE COMMITTEE MEETING – 2025
UID:755596425b7c67eb325c5b17bb56c854
END:VEVENT
BEGIN:VEVENT
LOCATION:On-line
DESCRIPTION:IOC - 7TH DAKAR 2026 COORDINATION COMMISSION MEETING - 2025
DTSTART:20251002T123000Z
DTEND:20251002T133000Z
DTSTAMP:20260422T082833Z
SUMMARY:IOC - 7TH DAKAR 2026 COORDINATION COMMISSION MEETING - 2025
DESCRIPTIONIOC - 7TH DAKAR 2026 COORDINATION COMMISSION MEETING - 2025
UID:14e5360467de4d57b4416f8c8a1d79e9
END:VEVENT
BEGIN:VEVENT
LOCATION:On-line
DESCRIPTION:ANOC - DIGITAL ACCELERATOR WEBINAR 13 - 2025
DTSTART:20251002T123000Z
DTEND:20251002T133000Z
DTSTAMP:20260422T082833Z
SUMMARY:ANOC - DIGITAL ACCELERATOR WEBINAR 13 - 2025
DESCRIPTIONANOC - DIGITAL ACCELERATOR WEBINAR 13 - 2025
UID:071374d034c9ae9f94a9beafd4ad119b
END:VEVENT
BEGIN:VEVENT
LOCATION:Saint Julian - Malta
DESCRIPTION:EOC - SEMINAR - 2025
DTSTART:20251003T123000Z
DTEND:20251004T133000Z
DTSTAMP:20260422T082833Z
SUMMARY:EOC - SEMINAR - 2025
DESCRIPTIONEOC - SEMINAR - 2025
UID:3b45c85c36f04c8eef461ed0c42f297f
END:VEVENT
BEGIN:VEVENT
LOCATION:On-line
DESCRIPTION:ANOC – SUSTAINABILITY WEBINAR 2 – 2025
DTSTART:20251009T123000Z
DTEND:20251009T133000Z
DTSTAMP:20260422T082833Z
SUMMARY:ANOC – SUSTAINABILITY WEBINAR 2 – 2025
DESCRIPTIONANOC – SUSTAINABILITY WEBINAR 2 – 2025
UID:c2ec096dcdce4c49b6668ff5ff5d35dd
END:VEVENT
BEGIN:VEVENT
LOCATION:Hammamet - Tunisia
DESCRIPTION:ANOCA - 2ND AFRICAN FORUM ON ENVIRONMENTAL PROTECTION & FIGHT AGAINST GLOBAL WARMING
DTSTART:20251019T123000Z
DTEND:20251020T133000Z
DTSTAMP:20260422T082833Z
SUMMARY:ANOCA - 2ND AFRICAN FORUM ON ENVIRONMENTAL PROTECTION & FIGHT AGAINST GLOBAL WARMING
DESCRIPTIONANOCA - 2ND AFRICAN FORUM ON ENVIRONMENTAL PROTECTION & FIGHT AGAINST GLOBAL WARMING
UID:e2b03d80444c2c5da91da44c4da826b4
END:VEVENT
BEGIN:VEVENT
LOCATION:Bahrain
DESCRIPTION:OCA - 101ST OCA EXECUTIVE BOARD MEETING - 2025
DTSTART:20251022T123000Z
DTEND:20251022T133000Z
DTSTAMP:20260422T082833Z
SUMMARY:OCA - 101ST OCA EXECUTIVE BOARD MEETING - 2025
DESCRIPTIONOCA - 101ST OCA EXECUTIVE BOARD MEETING - 2025
UID:761ef91520142a2b489f8c8a1822e26e
END:VEVENT
BEGIN:VEVENT
LOCATION:Lausanne - Switzerland
DESCRIPTION:IOC - 5TH INTERNATIONAL FORUM FOR SPORTS INTERGRITY - 2025
DTSTART:20251024T123000Z
DTEND:20251025T133000Z
DTSTAMP:20260422T082833Z
SUMMARY:IOC - 5TH INTERNATIONAL FORUM FOR SPORTS INTERGRITY - 2025
DESCRIPTIONIOC - 5TH INTERNATIONAL FORUM FOR SPORTS INTERGRITY - 2025
UID:aaf4435c0d0cf783a52af271ca12ad0d
END:VEVENT
BEGIN:VEVENT
LOCATION:Lausanne - Switzerland
DESCRIPTION:SPORTACCORD - IF FORUM - 2025
DTSTART:20251027T123000Z
DTEND:20251029T133000Z
DTSTAMP:20260422T082833Z
SUMMARY:SPORTACCORD - IF FORUM - 2025
DESCRIPTIONSPORTACCORD - IF FORUM - 2025
UID:667efc1a3e8aa0b1393d9fb04460b61b
END:VEVENT
BEGIN:VEVENT
LOCATION:Lausanne - Switzerland
DESCRIPTION:ASOIF - COUNCIL MEETING - 2025
DTSTART:20251027T123000Z
DTEND:20251027T133000Z
DTSTAMP:20260422T082833Z
SUMMARY:ASOIF - COUNCIL MEETING - 2025
DESCRIPTIONASOIF - COUNCIL MEETING - 2025
UID:fa0e400d5b1ea7f33f0bc1ffbd0384c2
END:VEVENT
BEGIN:VEVENT
LOCATION:Lausanne - Switzerland
DESCRIPTION:IOC - IF CHIEF MEDICAL OFFICERS MEETING - 2025
DTSTART:20251030T123000Z
DTEND:20251031T133000Z
DTSTAMP:20260422T082833Z
SUMMARY:IOC - IF CHIEF MEDICAL OFFICERS MEETING - 2025
DESCRIPTIONIOC - IF CHIEF MEDICAL OFFICERS MEETING - 2025
UID:7fcfb599a0967b0f072e089b03be0d23
END:VEVENT
BEGIN:VEVENT
LOCATION:Lausanne - Switzerland
DESCRIPTION:IOC - COMMISSIONS' WEEK - 2025
DTSTART:20251103T123000Z
DTEND:20251106T133000Z
DTSTAMP:20260422T082833Z
SUMMARY:IOC - COMMISSIONS' WEEK - 2025
DESCRIPTIONIOC - COMMISSIONS' WEEK - 2025
UID:5f15c9dc7d0e66832ef747f8db58f286
END:VEVENT
BEGIN:VEVENT
LOCATION:Dakar - Senegal
DESCRIPTION:DAKAR2026 - NOC OPEN DAY
DTSTART:20251104T123000Z
DTEND:20251107T133000Z
DTSTAMP:20260422T082833Z
SUMMARY:DAKAR2026 - NOC OPEN DAY
DESCRIPTIONDAKAR2026 - NOC OPEN DAY
UID:37f41ff8836cc89f74d4568ff3f7158a
END:VEVENT
BEGIN:VEVENT
LOCATION:On-line
DESCRIPTION:ANOC - SUSTAINABILITY WORKSHOP 9 - 2025
DTSTART:20251105T123000Z
DTEND:20251105T133000Z
DTSTAMP:20260422T082833Z
SUMMARY:ANOC - SUSTAINABILITY WORKSHOP 9 - 2025
DESCRIPTIONANOC - SUSTAINABILITY WORKSHOP 9 - 2025
UID:80a5e05c45caa0ca74e527e7ad21461a
END:VEVENT
BEGIN:VEVENT
LOCATION:Lausanne - Switzerland
DESCRIPTION:ANOC – EXECUTIVE COUNCIL MEETING – 2025
DTSTART:20251106T123000Z
DTEND:20251106T133000Z
DTSTAMP:20260422T082833Z
SUMMARY:ANOC – EXECUTIVE COUNCIL MEETING – 2025
DESCRIPTIONANOC – EXECUTIVE COUNCIL MEETING – 2025
UID:1724cbf743fef5ce751e34a714e77d48
END:VEVENT
BEGIN:VEVENT
LOCATION:Burundi
DESCRIPTION:ANOCA - GENDER EQUALITY FORUM - 2025
DTSTART:20251110T123000Z
DTEND:20251111T133000Z
DTSTAMP:20260422T082833Z
SUMMARY:ANOCA - GENDER EQUALITY FORUM - 2025
DESCRIPTIONANOCA - GENDER EQUALITY FORUM - 2025
UID:64546a7ec5905a6a7d71c28d823e59dc
END:VEVENT
BEGIN:VEVENT
LOCATION:On-line
DESCRIPTION:ANOC – DIGITAL ACCELERATOR WEBINAR 14 - 2025
DTSTART:20251111T123000Z
DTEND:20251111T133000Z
DTSTAMP:20260422T082833Z
SUMMARY:ANOC – DIGITAL ACCELERATOR WEBINAR 14 - 2025
DESCRIPTIONANOC – DIGITAL ACCELERATOR WEBINAR 14 - 2025
UID:ac9b25b3a2243e00bb8ca53580ad4cf2
END:VEVENT
BEGIN:VEVENT
LOCATION:London - Great Britain
DESCRIPTION:EOC - 8TH EUROPEAN ATHLETES' FORUM & GENERAL ASSEMBLY
DTSTART:20251112T123000Z
DTEND:20251113T133000Z
DTSTAMP:20260422T082833Z
SUMMARY:EOC - 8TH EUROPEAN ATHLETES' FORUM & GENERAL ASSEMBLY
DESCRIPTIONEOC - 8TH EUROPEAN ATHLETES' FORUM & GENERAL ASSEMBLY
UID:e51e17cfb9de450544bb7a8c112e1ddc
END:VEVENT
BEGIN:VEVENT
LOCATION:Lausanne - Switzerland
DESCRIPTION:IOC - OLYMPIC MOVEMENT AI ENGAGEMENT FORUM - 2025
DTSTART:20251112T123000Z
DTEND:20251113T133000Z
DTSTAMP:20260422T082833Z
SUMMARY:IOC - OLYMPIC MOVEMENT AI ENGAGEMENT FORUM - 2025
DESCRIPTIONIOC - OLYMPIC MOVEMENT AI ENGAGEMENT FORUM - 2025
UID:f525428d206b84dfc8e6ab146676721f
END:VEVENT
BEGIN:VEVENT
LOCATION:Brussels - Belgium
DESCRIPTION:EOC - 7TH EUROPEAN EVENING OF SPORT
DTSTART:20251117T123000Z
DTEND:20251117T133000Z
DTSTAMP:20260422T082833Z
SUMMARY:EOC - 7TH EUROPEAN EVENING OF SPORT
DESCRIPTIONEOC - 7TH EUROPEAN EVENING OF SPORT
UID:93f264627ed742c7d843d23a719a853b
END:VEVENT
BEGIN:VEVENT
LOCATION:Glasgow - Scotland
DESCRIPTION:CGF - GENERAL ASSEMBLY - 2025
DTSTART:20251124T123000Z
DTEND:20251126T133000Z
DTSTAMP:20260422T082833Z
SUMMARY:CGF - GENERAL ASSEMBLY - 2025
DESCRIPTIONCGF - GENERAL ASSEMBLY - 2025
UID:bc17ecfa0c3ac2f69224beda0b81d106
END:VEVENT
BEGIN:VEVENT
LOCATION:Olympia - Greece
DESCRIPTION:IOC - LIGHTING CEREMONY MILANO-CORTINA 2026
DTSTART:20251126T123000Z
DTEND:20251126T133000Z
DTSTAMP:20260422T082833Z
SUMMARY:IOC - LIGHTING CEREMONY MILANO-CORTINA 2026
DESCRIPTIONIOC - LIGHTING CEREMONY MILANO-CORTINA 2026
UID:9751f6aece59787d3286242d324dbdfd
END:VEVENT
BEGIN:VEVENT
LOCATION:Busan - Republic of Korea
DESCRIPTION:WADA - 6TH WORLD CONFERENCE ON DOPING IN SPORT - 2025
DTSTART:20251201T123000Z
DTEND:20251205T133000Z
DTSTAMP:20260422T082833Z
SUMMARY:WADA - 6TH WORLD CONFERENCE ON DOPING IN SPORT - 2025
DESCRIPTIONWADA - 6TH WORLD CONFERENCE ON DOPING IN SPORT - 2025
UID:8e3425953f7359c27cdbacbd54bea680
END:VEVENT
BEGIN:VEVENT
LOCATION:
DESCRIPTION:IOC – 1ST FRENCH ALPS 2030 COORDINATION COMMISSION MEETING – 2025
DTSTART:20251201T123000Z
DTEND:20251203T133000Z
DTSTAMP:20260422T082833Z
SUMMARY:IOC – 1ST FRENCH ALPS 2030 COORDINATION COMMISSION MEETING – 2025
DESCRIPTIONIOC – 1ST FRENCH ALPS 2030 COORDINATION COMMISSION MEETING – 2025
UID:01cf3cef51d6e4f2fdb3a85e3f254f49
END:VEVENT
BEGIN:VEVENT
LOCATION:Busan - Republic of Korea
DESCRIPTION:WADA - EXECUTIVE COMMITTEE MEETING - 2025
DTSTART:20251202T123000Z
DTEND:20251202T133000Z
DTSTAMP:20260422T082833Z
SUMMARY:WADA - EXECUTIVE COMMITTEE MEETING - 2025
DESCRIPTIONWADA - EXECUTIVE COMMITTEE MEETING - 2025
UID:d556adb4de9565a042f81ce269eda3c4
END:VEVENT
BEGIN:VEVENT
LOCATION:Busan - Republic of Korea
DESCRIPTION:WADA - FOUNDATION BOARD MEETING - 2025
DTSTART:20251205T123000Z
DTEND:20251205T133000Z
DTSTAMP:20260422T082833Z
SUMMARY:WADA - FOUNDATION BOARD MEETING - 2025
DESCRIPTIONWADA - FOUNDATION BOARD MEETING - 2025
UID:17f6d53bf7eb28b49e75df671fbc5237
END:VEVENT
BEGIN:VEVENT
LOCATION:Lausanne - Switzerland
DESCRIPTION:IOC – EXECUTIVE BOARD MEETING – 2025
DTSTART:20251209T123000Z
DTEND:20251210T133000Z
DTSTAMP:20260422T082833Z
SUMMARY:IOC – EXECUTIVE BOARD MEETING – 2025
DESCRIPTIONIOC – EXECUTIVE BOARD MEETING – 2025
UID:483f956ac2d299fc53cb049a3f96008f
END:VEVENT
BEGIN:VEVENT
LOCATION:Lausanne - Switzerland
DESCRIPTION:IOC - OLYMPIC SUMMIT - 2025
DTSTART:20251211T123000Z
DTEND:20251211T133000Z
DTSTAMP:20260422T082833Z
SUMMARY:IOC - OLYMPIC SUMMIT - 2025
DESCRIPTIONIOC - OLYMPIC SUMMIT - 2025
UID:b19393cbc14ecdb80e8662e8d1b99aec
END:VEVENT
END:VCALENDAR